{ "currentVersion": 11.2, "serviceDescription": "
NAIP mosaics are county mosaics of aerial photos in quarter quads produced for the National Agricultural Imagery Program (NAIP) and are comprised of scanned photographs that were acquired with a precision aerial mapping camera at a nominal scale of 1:40,000 on color positive film. Acquisition was leaf on with mature crops prior to harvest.<\/span><\/p><\/div><\/div><\/div>",
 "name": "Imagery/NAIP11",
 "description": " NAIP mosaics are county mosaics of aerial photos in quarter quads produced for the National Agricultural Imagery Program (NAIP) and are comprised of scanned photographs that were acquired with a precision aerial mapping camera at a nominal scale of 1:40,000 on color positive film. Acquisition was leaf on with mature crops prior to harvest.<\/span><\/p><\/div><\/div><\/div>",
 "extent": {
  "xmin": 2875247.142937033,
  "ymin": 1627908.4482285879,
  "xmax": 3036626.0174296866,
  "ymax": 1745296.3841037455,
  "spatialReference": {
   "wkid": 103013,
   "latestWkid": 6428
  }
 },
 "initialExtent": {
  "xmin": 2875247.142937033,
  "ymin": 1627908.4482285879,
  "xmax": 3036626.0174296866,
  "ymax": 1745296.3841037455,
  "spatialReference": {
   "wkid": 103013,
   "latestWkid": 6428
  }
 },
 "fullExtent": {
  "xmin": 2875247.142937033,
  "ymin": 1627908.4482285879,
  "xmax": 3036626.0174296866,
  "ymax": 1745296.3841037455,
  "spatialReference": {
   "wkid": 103013,
   "latestWkid": 6428
  }
 },
 "sortableFields": "",
 "bandCount": 4,
 "pixelType": "U8",
 "minValues": [
  0,
  0,
  0,
  0
 ],
 "maxValues": [
  255,
  255,
  255,
  255
 ],
 "meanValues": [
  84.46740530623947,
  90.41221499622885,
  92.50979082217795,
  132.39357147507434
 ],
 "stdvValues": [
  56.80835622641923,
  57.179821180357344,
  55.234225448002626,
  85.12617845396395
 ],
 "hasMultidimensions": false,
 "pixelSizeX": 3.281926187518377,
 "pixelSizeY": 3.281926187518385,
 "meanPixelSize": 1.0003331026218079,
 "datasetFormat": "SDR",
 "uncompressedSize": 7035136384,
 "blockWidth": 128,
 "blockHeight": 128,
 "compressionType": "LZ77",
 "bandNames": [
  "Band_1",
  "Band_2",
  "Band_3",
  "Band_4"
 ],
 "allowCopy": true,
 "allowAnalysis": true,
 "itemAccess": false,
 "inspectionCapabilities": "",
 "minPixelSize": 0.5208333333333333,
 "maxPixelSize": 266.66666666666663,
 "copyrightText": "USDA/FSA - Aerial Photography Field Office",
 "serviceDataType": "esriImageServiceDataTypeGeneric",
 "serviceSourceType": "esriImageServiceSourceTypeDataset",
 "objectIdField": "",
 "fields": [],
 "capabilities": "Mensuration,Image,Metadata",
 "defaultMosaicMethod": "Center",
 "allowedMosaicMethods": "",
 "sortField": "",
 "sortValue": null,
 "sortAscending": true,
 "mosaicOperator": "First",
 "defaultCompressionQuality": 75,
 "defaultResamplingMethod": "Bilinear",
 "maxImageHeight": 4100,
 "maxImageWidth": 15000,
 "singleFusedMapCache": true,
 "tileInfo": {
  "rows": 256,
  "cols": 256,
  "dpi": 96,
  "format": "PNG32",
  "compressionQuality": 0,
  "origin": {
   "x": -118767900,
   "y": 149010300
  },
  "spatialReference": {
   "wkid": 103013,
   "latestWkid": 6428
  },
  "lods": [
   {
    "level": 0,
    "resolution": 266.66666666666663,
    "scale": 307200
   },
   {
    "level": 1,
    "resolution": 133.33333333333331,
    "scale": 153600
   },
   {
    "level": 2,
    "resolution": 66.66666666666666,
    "scale": 76800
   },
   {
    "level": 3,
    "resolution": 33.33333333333333,
    "scale": 38400
   },
   {
    "level": 4,
    "resolution": 16.666666666666664,
    "scale": 19200
   },
   {
    "level": 5,
    "resolution": 8.333333333333332,
    "scale": 9600
   },
   {
    "level": 6,
    "resolution": 4.166666666666666,
    "scale": 4800
   },
   {
    "level": 7,
    "resolution": 2.083333333333333,
    "scale": 2400
   },
   {
    "level": 8,
    "resolution": 1.0416666666666665,
    "scale": 1200
   },
   {
    "level": 9,
    "resolution": 0.5208333333333333,
    "scale": 600
   }
  ]
 },
 "storageInfo": {
  "storageFormat": "esriMapCacheStorageModeCompact",
  "packetSize": 128
 },
 "cacheType": "Map",
 "allowRasterFunction": true,
 "rasterFunctionInfos": [
  {
   "name": "None",
   "description": "",
   "help": ""
  }
 ],
 "rasterTypeInfos": [
  {
   "name": "Raster Dataset",
   "description": "Supports all ArcGIS Raster Datasets",
   "help": ""
  }
 ],
 "mensurationCapabilities": "Basic",
 "hasHistograms": true,
 "hasColormap": false,
 "hasRasterAttributeTable": false,
 "minScale": 307200,
 "maxScale": 600,
 "exportTilesAllowed": false,
 "supportsStatistics": false,
 "supportsAdvancedQueries": false,
 "editFieldsInfo": null,
 "ownershipBasedAccessControlForRasters": null,
 "allowComputeTiePoints": false,
 "useStandardizedQueries": true,
 "advancedQueryCapabilities": {
  "useStandardizedQueries": true,
  "supportsStatistics": false,
  "supportsOrderBy": false,
  "supportsDistinct": false,
  "supportsPagination": false
 },
 "spatialReference": {
  "wkid": 103013,
  "latestWkid": 6428
 }
}