{ "currentVersion": 11.2, "serviceDescription": "
This dataset is a mosaic of aerial photography captured in 1999 for the Interstate 70 area.  2' resolution<\/span><\/p><\/div><\/div><\/div>",
 "name": "Imagery/clrcrk99",
 "description": " This dataset is a mosaic of aerial photography captured in 1999 for the Interstate 70 area.  2' resolution<\/span><\/p><\/div><\/div><\/div>",
 "extent": {
  "xmin": 2914999.999999996,
  "ymin": 1672000.0000000056,
  "xmax": 3034999.999999996,
  "ymax": 1720000.0000000056,
  "spatialReference": {
   "wkid": 103013,
   "latestWkid": 6428
  }
 },
 "initialExtent": {
  "xmin": 2914999.999999996,
  "ymin": 1672000.0000000056,
  "xmax": 3034999.999999996,
  "ymax": 1720000.0000000056,
  "spatialReference": {
   "wkid": 103013,
   "latestWkid": 6428
  }
 },
 "fullExtent": {
  "xmin": 2914999.999999996,
  "ymin": 1672000.0000000056,
  "xmax": 3034999.999999996,
  "ymax": 1720000.0000000056,
  "spatialReference": {
   "wkid": 103013,
   "latestWkid": 6428
  }
 },
 "sortableFields": "",
 "bandCount": 3,
 "pixelType": "U8",
 "minValues": [
  0,
  0,
  0
 ],
 "maxValues": [
  255,
  255,
  255
 ],
 "meanValues": [
  184.76277934513888,
  183.685532740625,
  178.98147869930557
 ],
 "stdvValues": [
  81.52986507872706,
  82.09114597075238,
  85.05660067626775
 ],
 "hasMultidimensions": false,
 "pixelSizeX": 2,
 "pixelSizeY": 2,
 "meanPixelSize": 0.6096012192024385,
 "datasetFormat": "SDR",
 "uncompressedSize": 4320000000,
 "blockWidth": 128,
 "blockHeight": 128,
 "compressionType": "LZ77",
 "bandNames": [
  "Band_1",
  "Band_2",
  "Band_3"
 ],
 "allowCopy": true,
 "allowAnalysis": true,
 "itemAccess": false,
 "inspectionCapabilities": "",
 "minPixelSize": 0.5208333333333333,
 "maxPixelSize": 266.66666666666663,
 "copyrightText": "",
 "serviceDataType": "esriImageServiceDataTypeRGB",
 "serviceSourceType": "esriImageServiceSourceTypeDataset",
 "objectIdField": "",
 "fields": [],
 "capabilities": "Mensuration,Image,Metadata",
 "defaultMosaicMethod": "Center",
 "allowedMosaicMethods": "",
 "sortField": "",
 "sortValue": null,
 "sortAscending": true,
 "mosaicOperator": "First",
 "defaultCompressionQuality": 75,
 "defaultResamplingMethod": "Bilinear",
 "maxImageHeight": 4100,
 "maxImageWidth": 15000,
 "singleFusedMapCache": true,
 "tileInfo": {
  "rows": 256,
  "cols": 256,
  "dpi": 96,
  "format": "PNG32",
  "compressionQuality": 0,
  "origin": {
   "x": -118767900,
   "y": 149010300
  },
  "spatialReference": {
   "wkid": 103013,
   "latestWkid": 6428
  },
  "lods": [
   {
    "level": 0,
    "resolution": 266.66666666666663,
    "scale": 307200
   },
   {
    "level": 1,
    "resolution": 133.33333333333331,
    "scale": 153600
   },
   {
    "level": 2,
    "resolution": 66.66666666666666,
    "scale": 76800
   },
   {
    "level": 3,
    "resolution": 33.33333333333333,
    "scale": 38400
   },
   {
    "level": 4,
    "resolution": 16.666666666666664,
    "scale": 19200
   },
   {
    "level": 5,
    "resolution": 8.333333333333332,
    "scale": 9600
   },
   {
    "level": 6,
    "resolution": 4.166666666666666,
    "scale": 4800
   },
   {
    "level": 7,
    "resolution": 2.083333333333333,
    "scale": 2400
   },
   {
    "level": 8,
    "resolution": 1.0416666666666665,
    "scale": 1200
   },
   {
    "level": 9,
    "resolution": 0.5208333333333333,
    "scale": 600
   }
  ]
 },
 "storageInfo": {
  "storageFormat": "esriMapCacheStorageModeCompact",
  "packetSize": 128
 },
 "cacheType": "Map",
 "allowRasterFunction": true,
 "rasterFunctionInfos": [
  {
   "name": "None",
   "description": "",
   "help": ""
  }
 ],
 "rasterTypeInfos": [
  {
   "name": "Raster Dataset",
   "description": "Supports all ArcGIS Raster Datasets",
   "help": ""
  }
 ],
 "mensurationCapabilities": "Basic",
 "hasHistograms": true,
 "hasColormap": false,
 "hasRasterAttributeTable": false,
 "minScale": 307200,
 "maxScale": 600,
 "exportTilesAllowed": false,
 "supportsStatistics": false,
 "supportsAdvancedQueries": false,
 "editFieldsInfo": null,
 "ownershipBasedAccessControlForRasters": null,
 "allowComputeTiePoints": false,
 "useStandardizedQueries": true,
 "advancedQueryCapabilities": {
  "useStandardizedQueries": true,
  "supportsStatistics": false,
  "supportsOrderBy": false,
  "supportsDistinct": false,
  "supportsPagination": false
 },
 "spatialReference": {
  "wkid": 103013,
  "latestWkid": 6428
 }
}