{
 "currentVersion": 11.2,
 "serviceDescription": "Historic Topo Quadrangle",
 "name": "BaseMaps/Fraser_Montezuma_1924",
 "description": "Historic Topo Quadrangle",
 "extent": {
  "xmin": 2858733.213997656,
  "ymin": 1607093.4201122827,
  "xmax": 2929810.527754097,
  "ymax": 1789533.8706358352,
  "spatialReference": {
   "wkid": 103013,
   "latestWkid": 6428,
   "vcsWkid": 105703,
   "latestVcsWkid": 6360
  }
 },
 "initialExtent": {
  "xmin": 2858733.213997656,
  "ymin": 1607093.4201122827,
  "xmax": 2929810.527754097,
  "ymax": 1789533.8706358352,
  "spatialReference": {
   "wkid": 103013,
   "latestWkid": 6428,
   "vcsWkid": 105703,
   "latestVcsWkid": 6360
  }
 },
 "fullExtent": {
  "xmin": 2858733.213997656,
  "ymin": 1607093.4201122827,
  "xmax": 2929810.527754097,
  "ymax": 1789533.8706358352,
  "spatialReference": {
   "wkid": 103013,
   "latestWkid": 6428,
   "vcsWkid": 105703,
   "latestVcsWkid": 6360
  }
 },
 "sortableFields": "",
 "heightModelInfo": {
  "heightModel": "gravity_related_height",
  "vertCRS": "NAVD_1988_Foot_US",
  "heightUnit": "us-foot"
 },
 "bandCount": 3,
 "pixelType": "U8",
 "minValues": [
  0,
  0,
  0
 ],
 "maxValues": [
  255,
  255,
  255
 ],
 "meanValues": [
  235.38469154182,
  220.02019750459,
  195.23226242779
 ],
 "stdvValues": [
  30.879482339056,
  32.81533826243,
  32.558785503838
 ],
 "hasMultidimensions": false,
 "pixelSizeX": 17.35709737642021,
 "pixelSizeY": 17.357097376420178,
 "meanPixelSize": 5.290453861240597,
 "datasetFormat": "TIFF",
 "uncompressedSize": 129127635,
 "blockWidth": 128,
 "blockHeight": 128,
 "compressionType": "LZW",
 "bandNames": [
  "Band_1",
  "Band_2",
  "Band_3"
 ],
 "allowCopy": true,
 "allowAnalysis": true,
 "itemAccess": false,
 "inspectionCapabilities": "",
 "noDataValue": 256,
 "noDataValues": [
  256,
  256,
  256
 ],
 "minPixelSize": 0.5208333333333333,
 "maxPixelSize": 266.66666666666663,
 "copyrightText": "",
 "serviceDataType": "esriImageServiceDataTypeRGB",
 "serviceSourceType": "esriImageServiceSourceTypeDataset",
 "objectIdField": "",
 "fields": [],
 "capabilities": "Mensuration,Image,Metadata",
 "defaultMosaicMethod": "Center",
 "allowedMosaicMethods": "",
 "sortField": "",
 "sortValue": null,
 "sortAscending": true,
 "mosaicOperator": "First",
 "defaultCompressionQuality": 75,
 "defaultResamplingMethod": "Bilinear",
 "maxImageHeight": 4100,
 "maxImageWidth": 15000,
 "singleFusedMapCache": true,
 "tileInfo": {
  "rows": 256,
  "cols": 256,
  "dpi": 96,
  "format": "PNG32",
  "compressionQuality": 0,
  "origin": {
   "x": -118767900,
   "y": 149010300
  },
  "spatialReference": {
   "wkid": 103013,
   "latestWkid": 6428,
   "vcsWkid": 105703,
   "latestVcsWkid": 6360
  },
  "lods": [
   {
    "level": 0,
    "resolution": 266.66666666666663,
    "scale": 307200
   },
   {
    "level": 1,
    "resolution": 133.33333333333331,
    "scale": 153600
   },
   {
    "level": 2,
    "resolution": 66.66666666666666,
    "scale": 76800
   },
   {
    "level": 3,
    "resolution": 33.33333333333333,
    "scale": 38400
   },
   {
    "level": 4,
    "resolution": 16.666666666666664,
    "scale": 19200
   },
   {
    "level": 5,
    "resolution": 8.333333333333332,
    "scale": 9600
   },
   {
    "level": 6,
    "resolution": 4.166666666666666,
    "scale": 4800
   },
   {
    "level": 7,
    "resolution": 2.083333333333333,
    "scale": 2400
   },
   {
    "level": 8,
    "resolution": 1.0416666666666665,
    "scale": 1200
   },
   {
    "level": 9,
    "resolution": 0.5208333333333333,
    "scale": 600
   }
  ]
 },
 "storageInfo": {
  "storageFormat": "esriMapCacheStorageModeCompactV2",
  "packetSize": 128
 },
 "cacheType": "Map",
 "allowRasterFunction": true,
 "rasterFunctionInfos": [
  {
   "name": "None",
   "description": "",
   "help": ""
  }
 ],
 "rasterTypeInfos": [
  {
   "name": "Raster Dataset",
   "description": "Supports all ArcGIS Raster Datasets",
   "help": ""
  }
 ],
 "mensurationCapabilities": "Basic",
 "hasHistograms": true,
 "hasColormap": false,
 "hasRasterAttributeTable": false,
 "minScale": 307200,
 "maxScale": 600,
 "exportTilesAllowed": false,
 "supportsStatistics": false,
 "supportsAdvancedQueries": false,
 "editFieldsInfo": null,
 "ownershipBasedAccessControlForRasters": null,
 "allowComputeTiePoints": false,
 "useStandardizedQueries": true,
 "advancedQueryCapabilities": {
  "useStandardizedQueries": true,
  "supportsStatistics": false,
  "supportsOrderBy": false,
  "supportsDistinct": false,
  "supportsPagination": false
 },
 "spatialReference": {
  "wkid": 103013,
  "latestWkid": 6428,
  "vcsWkid": 105703,
  "latestVcsWkid": 6360
 }
}
