{
 "currentVersion": 11.2,
 "serviceDescription": "Aerial photography for Clear Creek County area flown during the summer of 2016. This data was created as part of the 2016 Denver Regional Aerial Photography Project (DRAPP).",
 "name": "Imagery/DRAPP16",
 "description": "Aerial photography for Clear Creek County area flown during the summer of 2016. This data was created as part of the 2016 Denver Regional Aerial Photography Project (DRAPP).",
 "extent": {
  "xmin": 2877392,
  "ymin": 1621112,
  "xmax": 3051632,
  "ymax": 1747832,
  "spatialReference": {
   "wkid": 103013,
   "latestWkid": 6428,
   "vcsWkid": 105703,
   "latestVcsWkid": 6360
  }
 },
 "initialExtent": {
  "xmin": 2877392,
  "ymin": 1621112,
  "xmax": 3051632,
  "ymax": 1747832,
  "spatialReference": {
   "wkid": 103013,
   "latestWkid": 6428,
   "vcsWkid": 105703,
   "latestVcsWkid": 6360
  }
 },
 "fullExtent": {
  "xmin": 2877392,
  "ymin": 1621112,
  "xmax": 3051632,
  "ymax": 1747832,
  "spatialReference": {
   "wkid": 103013,
   "latestWkid": 6428,
   "vcsWkid": 105703,
   "latestVcsWkid": 6360
  }
 },
 "sortableFields": "",
 "heightModelInfo": {
  "heightModel": "gravity_related_height",
  "vertCRS": "NAVD_1988_Foot_US",
  "heightUnit": "us-foot"
 },
 "bandCount": 4,
 "pixelType": "U8",
 "minValues": [
  1,
  1,
  1,
  1
 ],
 "maxValues": [
  255,
  255,
  255,
  255
 ],
 "meanValues": [
  86.98477535086859,
  90.69891002191986,
  89.34068459067285,
  118.6972954887362
 ],
 "stdvValues": [
  42.783601792331126,
  41.99521783880211,
  40.74203427816076,
  63.80127342261811
 ],
 "hasMultidimensions": false,
 "pixelSizeX": 1,
 "pixelSizeY": 1,
 "meanPixelSize": 0.30480060960121924,
 "datasetFormat": "SDR",
 "uncompressedSize": 88318771200,
 "blockWidth": 128,
 "blockHeight": 128,
 "compressionType": "NONE",
 "bandNames": [
  "Band_1",
  "Band_2",
  "Band_3",
  "Band_4"
 ],
 "allowCopy": true,
 "allowAnalysis": true,
 "itemAccess": false,
 "inspectionCapabilities": "",
 "minPixelSize": 0.5208333333333333,
 "maxPixelSize": 266.66666666666663,
 "copyrightText": "",
 "serviceDataType": "esriImageServiceDataTypeGeneric",
 "serviceSourceType": "esriImageServiceSourceTypeDataset",
 "objectIdField": "",
 "fields": [],
 "capabilities": "Mensuration,Image,Metadata",
 "defaultMosaicMethod": "Center",
 "allowedMosaicMethods": "",
 "sortField": "",
 "sortValue": null,
 "sortAscending": true,
 "mosaicOperator": "First",
 "defaultCompressionQuality": 75,
 "defaultResamplingMethod": "Bilinear",
 "maxImageHeight": 4100,
 "maxImageWidth": 15000,
 "singleFusedMapCache": true,
 "tileInfo": {
  "rows": 256,
  "cols": 256,
  "dpi": 96,
  "format": "PNG32",
  "compressionQuality": 0,
  "origin": {
   "x": -118767900,
   "y": 149010300
  },
  "spatialReference": {
   "wkid": 103013,
   "latestWkid": 6428
  },
  "lods": [
   {
    "level": 0,
    "resolution": 266.66666666666663,
    "scale": 307200
   },
   {
    "level": 1,
    "resolution": 133.33333333333331,
    "scale": 153600
   },
   {
    "level": 2,
    "resolution": 66.66666666666666,
    "scale": 76800
   },
   {
    "level": 3,
    "resolution": 33.33333333333333,
    "scale": 38400
   },
   {
    "level": 4,
    "resolution": 16.666666666666664,
    "scale": 19200
   },
   {
    "level": 5,
    "resolution": 8.333333333333332,
    "scale": 9600
   },
   {
    "level": 6,
    "resolution": 4.166666666666666,
    "scale": 4800
   },
   {
    "level": 7,
    "resolution": 2.083333333333333,
    "scale": 2400
   },
   {
    "level": 8,
    "resolution": 1.0416666666666665,
    "scale": 1200
   },
   {
    "level": 9,
    "resolution": 0.5208333333333333,
    "scale": 600
   }
  ]
 },
 "storageInfo": {
  "storageFormat": "esriMapCacheStorageModeCompactV2",
  "packetSize": 128
 },
 "cacheType": "Map",
 "allowRasterFunction": true,
 "rasterFunctionInfos": [
  {
   "name": "None",
   "description": "",
   "help": ""
  }
 ],
 "rasterTypeInfos": [
  {
   "name": "Raster Dataset",
   "description": "Supports all ArcGIS Raster Datasets",
   "help": ""
  }
 ],
 "mensurationCapabilities": "Basic",
 "hasHistograms": true,
 "hasColormap": false,
 "hasRasterAttributeTable": false,
 "minScale": 307200,
 "maxScale": 600,
 "exportTilesAllowed": false,
 "supportsStatistics": false,
 "supportsAdvancedQueries": false,
 "editFieldsInfo": null,
 "ownershipBasedAccessControlForRasters": null,
 "allowComputeTiePoints": false,
 "useStandardizedQueries": true,
 "advancedQueryCapabilities": {
  "useStandardizedQueries": true,
  "supportsStatistics": false,
  "supportsOrderBy": false,
  "supportsDistinct": false,
  "supportsPagination": false
 },
 "spatialReference": {
  "wkid": 103013,
  "latestWkid": 6428,
  "vcsWkid": 105703,
  "latestVcsWkid": 6360
 }
}
