View In:
  ArcGIS JavaScript
  ArcGIS Online Map Viewer
  ArcGIS Earth
Service Description:  Historic Topo Quadrangle - 1944
Name:  BaseMaps/CentralCity_BlackHawk_1944
Description:  Historic Topo Quadrangle - 1944
Single Fused Map Cache:  true
Tile Info: 
- Height: 256
 
- Width: 256
 
- DPI: 96
 
- 
Levels of Detail:  10
 
- Format: PNG32
 
- Compression Quality: 0.0
 
- LERC Error: NaN
 
- Origin: X:  -1.187679E8
Y:  1.490103E8
 
- Spatial Reference: 103013
 (6428)
 LatestVCSWkid(0)
 
Storage Info: 
- Storage Format: esriMapCacheStorageModeCompactV2
 
- Packet Size: 128
 
Extent: 
XMin: 2964687.086384782
YMin: 1698061.123000745
XMax: 3034998.9457607814
YMax: 1743627.4318679445
Spatial Reference: 103013
 (6428)
 VCSWkid(105703)
 LatestVCSWkid(6360)
Initial Extent: 
XMin: 2964687.086384782
YMin: 1698061.123000745
XMax: 3034998.9457607814
YMax: 1743627.4318679445
Spatial Reference: 103013
 (6428)
 VCSWkid(105703)
 LatestVCSWkid(6360)
Full Extent: 
XMin: 2964687.086384782
YMin: 1698061.123000745
XMax: 3034998.9457607814
YMax: 1743627.4318679445
Spatial Reference: 103013
 (6428)
 VCSWkid(105703)
 LatestVCSWkid(6360)
Pixel Size X:  8.799982399999914
Pixel Size Y:  8.79998239999992
Band Count: 3
Pixel Type: U8
RasterFunction Infos:  {"rasterFunctionInfos": [{
 "name": "None",
 "description": "",
 "help": ""
}]}
Mensuration Capabilities: Basic
Inspection Capabilities: 
Has Histograms:  true
Has Colormap:  false
Has Multi Dimensions :  false
Rendering Rule: 
Min Scale:  307200
Max Scale:  600
Copyright Text:  
Service Data Type:  esriImageServiceDataTypeRGB
Min Values:  27, 16, 0
Max Values:  255, 255, 255
Mean Values:  237.0994315751, 219.53710683159, 192.50311095223
Standard Deviation Values:  27.261990957809, 33.041959735128, 35.225456302723
Object ID Field:  
Fields: 
None
Default Mosaic Method:  Center
Allowed Mosaic Methods:  
SortField:  
SortValue:  null
Mosaic Operator:  First
Default Compression Quality:  75
Default Resampling Method:  Bilinear
Max Record Count:  null
Max Image Height:  4100
Max Image Width:  15000
Max Download Image Count:  null
Max Mosaic Image Count:  null
Allow Raster Function:  true
Allow Copy:  true
Allow Analysis:  true
Allow Compute TiePoints:  false
Supports Statistics:  false
Supports Advanced Queries:  false
Use StandardizedQueries:  true
Raster Type Infos: 
Name: Raster Dataset
Description: Supports all ArcGIS Raster Datasets
Help: 
Has Raster Attribute Table:  false
Edit Fields Info:  null
Ownership Based AccessControl For Rasters:  null
Child Resources:
  
Info
  Histograms
  Statistics
  Key Properties
  Legend
  Raster Function Infos
Supported Operations:
  
Export Image
  Identify
  Measure
  Compute Histograms
  Compute Statistics Histograms
  Get Samples
  Compute Class Statistics
  Query Boundary
  Compute Pixel Location
  Compute Angles
  Validate
  Project