View In:
  ArcGIS JavaScript
  ArcGIS Online Map Viewer
  ArcGIS Earth
Service Description:  Historic Topo Quadrangle
Name:  BaseMaps/Fraser_Montezuma_1924
Description:  Historic Topo Quadrangle
Single Fused Map Cache:  true
Tile Info: 
- Height: 256
 
- Width: 256
 
- DPI: 96
 
- 
Levels of Detail:  10
 
- Format: PNG32
 
- Compression Quality: 0.0
 
- LERC Error: NaN
 
- Origin: X:  -1.187679E8
Y:  1.490103E8
 
- Spatial Reference: 103013
 (6428)
 VCSWkid(105703)
 LatestVCSWkid(6360)
 
Storage Info: 
- Storage Format: esriMapCacheStorageModeCompactV2
 
- Packet Size: 128
 
Extent: 
XMin: 2858733.213997656
YMin: 1607093.4201122827
XMax: 2929810.527754097
YMax: 1789533.8706358352
Spatial Reference: 103013
 (6428)
 VCSWkid(105703)
 LatestVCSWkid(6360)
Initial Extent: 
XMin: 2858733.213997656
YMin: 1607093.4201122827
XMax: 2929810.527754097
YMax: 1789533.8706358352
Spatial Reference: 103013
 (6428)
 VCSWkid(105703)
 LatestVCSWkid(6360)
Full Extent: 
XMin: 2858733.213997656
YMin: 1607093.4201122827
XMax: 2929810.527754097
YMax: 1789533.8706358352
Spatial Reference: 103013
 (6428)
 VCSWkid(105703)
 LatestVCSWkid(6360)
Pixel Size X:  17.35709737642021
Pixel Size Y:  17.357097376420178
Band Count: 3
Pixel Type: U8
RasterFunction Infos:  {"rasterFunctionInfos": [{
 "name": "None",
 "description": "",
 "help": ""
}]}
Mensuration Capabilities: Basic
Inspection Capabilities: 
Has Histograms:  true
Has Colormap:  false
Has Multi Dimensions :  false
Rendering Rule: 
Min Scale:  307200
Max Scale:  600
Copyright Text:  
Service Data Type:  esriImageServiceDataTypeRGB
Min Values:  0, 0, 0
Max Values:  255, 255, 255
Mean Values:  235.38469154182, 220.02019750459, 195.23226242779
Standard Deviation Values:  30.879482339056, 32.81533826243, 32.558785503838
Object ID Field:  
Fields: 
None
Default Mosaic Method:  Center
Allowed Mosaic Methods:  
SortField:  
SortValue:  null
Mosaic Operator:  First
Default Compression Quality:  75
Default Resampling Method:  Bilinear
Max Record Count:  null
Max Image Height:  4100
Max Image Width:  15000
Max Download Image Count:  null
Max Mosaic Image Count:  null
Allow Raster Function:  true
Allow Copy:  true
Allow Analysis:  true
Allow Compute TiePoints:  false
Supports Statistics:  false
Supports Advanced Queries:  false
Use StandardizedQueries:  true
Raster Type Infos: 
Name: Raster Dataset
Description: Supports all ArcGIS Raster Datasets
Help: 
Has Raster Attribute Table:  false
Edit Fields Info:  null
Ownership Based AccessControl For Rasters:  null
Child Resources:
  
Info
  Histograms
  Statistics
  Key Properties
  Legend
  Raster Function Infos
Supported Operations:
  
Export Image
  Identify
  Measure
  Compute Histograms
  Compute Statistics Histograms
  Get Samples
  Compute Class Statistics
  Query Boundary
  Compute Pixel Location
  Compute Angles
  Validate
  Project