View In:
  ArcGIS JavaScript
  ArcGIS Online Map Viewer
  ArcGIS Earth
Service Description:  2004 Aerial Photography for Clear Creek County
Name:  Imagery/DRAPP04
Description:  2004 Aerial Photography for Clear Creek County
Single Fused Map Cache:  true
Tile Info: 
- Height: 256
 
- Width: 256
 
- DPI: 96
 
- 
Levels of Detail:  10
 
- Format: PNG32
 
- Compression Quality: 0.0
 
- LERC Error: NaN
 
- Origin: X:  -1.187679E8
Y:  1.490103E8
 
- Spatial Reference: 103013
 (6428)
 LatestVCSWkid(0)
 
Storage Info: 
- Storage Format: esriMapCacheStorageModeCompact
 
- Packet Size: 128
 
Extent: 
XMin: 2875374.999999999
YMin: 1625645.0000000023
XMax: 3035374.999999999
YMax: 1740645.0000000023
Spatial Reference: 103013
 (6428)
 LatestVCSWkid(0)
Initial Extent: 
XMin: 2875374.999999999
YMin: 1625645.0000000023
XMax: 3035374.999999999
YMax: 1740645.0000000023
Spatial Reference: 103013
 (6428)
 LatestVCSWkid(0)
Full Extent: 
XMin: 2875374.999999999
YMin: 1625645.0000000023
XMax: 3035374.999999999
YMax: 1740645.0000000023
Spatial Reference: 103013
 (6428)
 LatestVCSWkid(0)
Pixel Size X:  1.0
Pixel Size Y:  1.0
Band Count: 3
Pixel Type: U8
RasterFunction Infos:  {"rasterFunctionInfos": [{
 "name": "None",
 "description": "",
 "help": ""
}]}
Mensuration Capabilities: Basic
Inspection Capabilities: 
Has Histograms:  true
Has Colormap:  false
Has Multi Dimensions :  false
Rendering Rule: 
Min Scale:  307200
Max Scale:  600
Resampling:  false
Copyright Text:  
Service Data Type:  esriImageServiceDataTypeRGB
Min Values:  0, 0, 0
Max Values:  255, 255, 255
Mean Values:  110.88788156976992, 109.7096963880708, 104.16432430633628
Standard Deviation Values:  44.41648035489342, 42.94344315355164, 40.987066340582665
Object ID Field:  
Fields: 
None
Default Mosaic Method:  Center
Allowed Mosaic Methods:  
SortField:  
SortValue:  null
Mosaic Operator:  First
Default Compression Quality:  75
Default Resampling Method:  Bilinear
Max Record Count:  null
Max Image Height:  4100
Max Image Width:  15000
Max Download Image Count:  null
Max Mosaic Image Count:  null
Allow Raster Function:  true
Allow Copy:  true
Allow Analysis:  true
Allow Compute TiePoints:  false
Supports Statistics:  false
Supports Advanced Queries:  false
Use StandardizedQueries:  true
Raster Type Infos: 
Name: Raster Dataset
Description: Supports all ArcGIS Raster Datasets
Help: 
Has Raster Attribute Table:  false
Edit Fields Info:  null
Ownership Based AccessControl For Rasters:  null
Child Resources:
  
Info
  Histograms
  Statistics
  Key Properties
  Legend
  Raster Function Infos
Supported Operations:
  
Export Image
  Identify
  Measure
  Compute Histograms
  Compute Statistics Histograms
  Get Samples
  Compute Class Statistics
  Query Boundary
  Compute Pixel Location
  Compute Angles
  Validate
  Project