View In:
  ArcGIS JavaScript
  ArcGIS Online Map Viewer
  ArcGIS Earth
Service Description:  2012 Aerial Photography for Clear Creek County 
Name:  Imagery/DRAPP12
Description:  2012 Aerial Photography for Clear Creek County 
Single Fused Map Cache:  true
Tile Info: 
- Height: 256
 
- Width: 256
 
- DPI: 96
 
- 
Levels of Detail:  10
 
- Format: PNG32
 
- Compression Quality: 0.0
 
- LERC Error: NaN
 
- Origin: X:  -1.187679E8
Y:  1.490103E8
 
- Spatial Reference: 103013
 (6428)
 LatestVCSWkid(0)
 
Storage Info: 
- Storage Format: esriMapCacheStorageModeCompact
 
- Packet Size: 128
 
Extent: 
XMin: 2877391.9769999986
YMin: 1626391.8780000047
XMax: 3046391.9769999986
YMax: 1742591.8780000047
Spatial Reference: 103013
 (6428)
 LatestVCSWkid(0)
Initial Extent: 
XMin: 2877391.9769999986
YMin: 1626391.8780000047
XMax: 3046391.9769999986
YMax: 1742591.8780000047
Spatial Reference: 103013
 (6428)
 LatestVCSWkid(0)
Full Extent: 
XMin: 2877391.9769999986
YMin: 1626391.8780000047
XMax: 3046391.9769999986
YMax: 1742591.8780000047
Spatial Reference: 103013
 (6428)
 LatestVCSWkid(0)
Pixel Size X:  1.0
Pixel Size Y:  1.0
Band Count: 4
Pixel Type: U8
RasterFunction Infos:  {"rasterFunctionInfos": [{
 "name": "None",
 "description": "",
 "help": ""
}]}
Mensuration Capabilities: Basic
Inspection Capabilities: 
Has Histograms:  false
Has Colormap:  false
Has Multi Dimensions :  false
Rendering Rule: 
Min Scale:  307200
Max Scale:  600
Copyright Text:  
Service Data Type:  esriImageServiceDataTypeGeneric
Min Values:  N/A
Max Values:  N/A
Mean Values:  N/A
Standard Deviation Values:  N/A
Object ID Field:  
Fields: 
None
Default Mosaic Method:  Center
Allowed Mosaic Methods:  
SortField:  
SortValue:  null
Mosaic Operator:  First
Default Compression Quality:  75
Default Resampling Method:  Bilinear
Max Record Count:  null
Max Image Height:  4100
Max Image Width:  15000
Max Download Image Count:  null
Max Mosaic Image Count:  null
Allow Raster Function:  true
Allow Copy:  true
Allow Analysis:  true
Allow Compute TiePoints:  false
Supports Statistics:  false
Supports Advanced Queries:  false
Use StandardizedQueries:  true
Raster Type Infos: 
Name: Raster Dataset
Description: Supports all ArcGIS Raster Datasets
Help: 
Has Raster Attribute Table:  false
Edit Fields Info:  null
Ownership Based AccessControl For Rasters:  null
Child Resources:
  
Info
  Statistics
  Key Properties
  Legend
  Raster Function Infos
Supported Operations:
  
Export Image
  Identify
  Measure
  Compute Histograms
  Compute Statistics Histograms
  Get Samples
  Compute Class Statistics
  Query Boundary
  Compute Pixel Location
  Compute Angles
  Validate
  Project