View In:
  ArcGIS JavaScript
  ArcGIS Online Map Viewer
  ArcGIS Earth
Service Description:  Hillshade of 2 foot Digital Elevation Model data which was derived from:Regional Lidar Project 2020 DRCOG received a grant from the U.S. Geological Survey in December 2019 to collect quality level 2 lidar in 5,000 square miles of the region and derive contours in most of the Denver metro area. Flights to the collect the data were completed between May 26, 2020, and Sept. 7, 2020, and quality control performed by the U.S. Geological Survey was completed in December of 2021.
Name:  Imagery/HillShade_LiDAR20
Description:  Hillshade of 2 foot Digital Elevation Model data which was derived from:Regional Lidar Project 2020 DRCOG received a grant from the U.S. Geological Survey in December 2019 to collect quality level 2 lidar in 5,000 square miles of the region and derive contours in most of the Denver metro area. Flights to the collect the data were completed between May 26, 2020, and Sept. 7, 2020, and quality control performed by the U.S. Geological Survey was completed in December of 2021.
Single Fused Map Cache:  true
Tile Info: 
- Height: 256
 
- Width: 256
 
- DPI: 96
 
- 
Levels of Detail:  10
 
- Format: PNG
 
- Compression Quality: 0.0
 
- LERC Error: NaN
 
- Origin: X:  -1.187679E8
Y:  1.490103E8
 
- Spatial Reference: 103013
 (6428)
 VCSWkid(105703)
 LatestVCSWkid(6360)
 
Storage Info: 
- Storage Format: esriMapCacheStorageModeCompactV2
 
- Packet Size: 128
 
Extent: 
XMin: 2877392.0
YMin: 1626392.0
XMax: 3035792.0
YMax: 1737272.0
Spatial Reference: 103013
 (6428)
 VCSWkid(105703)
 LatestVCSWkid(6360)
Initial Extent: 
XMin: 2877392.0
YMin: 1626392.0
XMax: 3035792.0
YMax: 1737272.0
Spatial Reference: 103013
 (6428)
 VCSWkid(105703)
 LatestVCSWkid(6360)
Full Extent: 
XMin: 2877392.0
YMin: 1626392.0
XMax: 3035792.0
YMax: 1737272.0
Spatial Reference: 103013
 (6428)
 VCSWkid(105703)
 LatestVCSWkid(6360)
Pixel Size X:  2.0
Pixel Size Y:  2.0
Band Count: 1
Pixel Type: U8
RasterFunction Infos:  {"rasterFunctionInfos": [{
 "name": "None",
 "description": "",
 "help": ""
}]}
Mensuration Capabilities: Basic
Inspection Capabilities: 
Has Histograms:  true
Has Colormap:  false
Has Multi Dimensions :  false
Rendering Rule: 
Min Scale:  0
Max Scale:  0
Min LOD:  0
Max LOD:  9
Resampling:  false
Copyright Text:  
Service Data Type:  esriImageServiceDataTypeProcessed
Min Values:  0
Max Values:  238
Mean Values:  173.62294530512548
Standard Deviation Values:  42.974929654421665
Object ID Field:  
Fields: 
None
Default Mosaic Method:  Center
Allowed Mosaic Methods:  
SortField:  
SortValue:  null
Mosaic Operator:  First
Default Compression Quality:  75
Default Resampling Method:  Bilinear
Max Record Count:  null
Max Image Height:  4100
Max Image Width:  15000
Max Download Image Count:  null
Max Mosaic Image Count:  null
Allow Raster Function:  true
Allow Copy:  true
Allow Analysis:  true
Allow Compute TiePoints:  false
Supports Statistics:  false
Supports Advanced Queries:  false
Use StandardizedQueries:  true
Raster Type Infos: 
Name: Raster Dataset
Description: Supports all ArcGIS Raster Datasets
Help: 
Has Raster Attribute Table:  false
Edit Fields Info:  null
Ownership Based AccessControl For Rasters:  null
Child Resources:
  
Info
  Histograms
  Statistics
  Key Properties
  Legend
  Raster Function Infos
Supported Operations:
  
Export Image
  Identify
  Measure
  Compute Histograms
  Compute Statistics Histograms
  Get Samples
  Compute Class Statistics
  Query Boundary
  Compute Pixel Location
  Compute Angles
  Validate
  Project