View In:
ArcGIS JavaScript
ArcGIS Online Map Viewer
ArcGIS Earth
Service Description: NAIP mosaics are county mosaics of aerial photos in quarter quads produced for the National Agricultural Imagery Program (NAIP) and are comprised of scanned photographs that were acquired with a precision aerial mapping camera at a nominal scale of 1:40,000 on color positive film. Acquisition was leaf on with mature crops prior to harvest.
Name: Imagery/NAIP05
Description: NAIP mosaics are county mosaics of aerial photos in quarter quads produced for the National Agricultural Imagery Program (NAIP) and are comprised of scanned photographs that were acquired with a precision aerial mapping camera at a nominal scale of 1:40,000 on color positive film. Acquisition was leaf on with mature crops prior to harvest.
Single Fused Map Cache: true
Tile Info:
- Height: 256
- Width: 256
- DPI: 96
-
Levels of Detail: 10
- Format: PNG32
- Compression Quality: 0.0
- LERC Error: NaN
- Origin: X: -1.187679E8
Y: 1.490103E8
- Spatial Reference: 103013
(6428)
LatestVCSWkid(0)
Storage Info:
- Storage Format: esriMapCacheStorageModeCompact
- Packet Size: 128
Extent:
XMin: 2857646.369967806
YMin: 1605054.42644053
XMax: 3036743.5266938014
YMax: 1745286.4827459785
Spatial Reference: 103013
(6428)
LatestVCSWkid(0)
Initial Extent:
XMin: 2857646.369967806
YMin: 1605054.42644053
XMax: 3036743.5266938014
YMax: 1745286.4827459785
Spatial Reference: 103013
(6428)
LatestVCSWkid(0)
Full Extent:
XMin: 2857646.369967806
YMin: 1605054.42644053
XMax: 3036743.5266938014
YMax: 1745286.4827459785
Spatial Reference: 103013
(6428)
LatestVCSWkid(0)
Pixel Size X: 3.2819709863660482
Pixel Size Y: 3.2819709863660487
Band Count: 3
Pixel Type: U8
RasterFunction Infos: {"rasterFunctionInfos": [{
"name": "None",
"description": "",
"help": ""
}]}
Mensuration Capabilities: Basic
Inspection Capabilities:
Has Histograms: true
Has Colormap: false
Has Multi Dimensions : false
Rendering Rule:
Min Scale: 307200
Max Scale: 600
Copyright Text:
Service Data Type: esriImageServiceDataTypeRGB
Min Values: 0, 0, 0
Max Values: 255, 255, 255
Mean Values: 101.91009921674234, 103.92615717061925, 100.8204968939189
Standard Deviation Values: 64.48414733593059, 64.51515391141976, 62.48444112499973
Object ID Field:
Fields:
None
Default Mosaic Method: Center
Allowed Mosaic Methods:
SortField:
SortValue: null
Mosaic Operator: First
Default Compression Quality: 75
Default Resampling Method: Bilinear
Max Record Count: null
Max Image Height: 4100
Max Image Width: 15000
Max Download Image Count: null
Max Mosaic Image Count: null
Allow Raster Function: true
Allow Copy: true
Allow Analysis: true
Allow Compute TiePoints: false
Supports Statistics: false
Supports Advanced Queries: false
Use StandardizedQueries: true
Raster Type Infos:
Name: Raster Dataset
Description: Supports all ArcGIS Raster Datasets
Help:
Has Raster Attribute Table: false
Edit Fields Info: null
Ownership Based AccessControl For Rasters: null
Child Resources:
Info
Histograms
Statistics
Key Properties
Legend
Raster Function Infos
Supported Operations:
Export Image
Identify
Measure
Compute Histograms
Compute Statistics Histograms
Get Samples
Compute Class Statistics
Query Boundary
Compute Pixel Location
Compute Angles
Validate
Project