View In:
ArcGIS JavaScript
ArcGIS Online Map Viewer
ArcGIS Earth
Service Description: This data set contains imagery from the National Agriculture Imagery Program (NAIP). The NAIP acquires 4-band digital ortho imagery from airbourne and/or space based platforms during the agricultural growing seasons in the U.S.. A primary goal of the NAIP program is to enable availability of ortho imagery within sixty days of acquisition. The NAIP provides 1 meter GSD ortho imagery rectified within +/- 6 meters to true ground at a 95% confidence level. The tiling format of NAIP imagery is based on a 3.75' x 3.75' quarter quadrangle with a 300 (plus or minus 30) pixel buffer on all four sides. The NAIP imagery is formatted to the UTM coordinate system using the North American Datum of 1983 (NAD83). The NAIP imagery may contain as much as 10% cloud cover per tile. This file was generated by compressing NAIP imagery that cover the county extent. Two types of compression may be used for NAIP imagery: MrSID and JPEG 2000. Target value for the compression ratio for 1 meter GSD is (15:1).
Name: Imagery/NAIP13
Description: This data set contains imagery from the National Agriculture Imagery Program (NAIP). The NAIP acquires 4-band digital ortho imagery from airbourne and/or space based platforms during the agricultural growing seasons in the U.S.. A primary goal of the NAIP program is to enable availability of ortho imagery within sixty days of acquisition. The NAIP provides 1 meter GSD ortho imagery rectified within +/- 6 meters to true ground at a 95% confidence level. The tiling format of NAIP imagery is based on a 3.75' x 3.75' quarter quadrangle with a 300 (plus or minus 30) pixel buffer on all four sides. The NAIP imagery is formatted to the UTM coordinate system using the North American Datum of 1983 (NAD83). The NAIP imagery may contain as much as 10% cloud cover per tile. This file was generated by compressing NAIP imagery that cover the county extent. Two types of compression may be used for NAIP imagery: MrSID and JPEG 2000. Target value for the compression ratio for 1 meter GSD is (15:1).
Single Fused Map Cache: true
Tile Info:
- Height: 256
- Width: 256
- DPI: 96
-
Levels of Detail: 10
- Format: PNG32
- Compression Quality: 0.0
- LERC Error: NaN
- Origin: X: -1.187679E8
Y: 1.490103E8
- Spatial Reference: 103013
(6428)
LatestVCSWkid(0)
Storage Info:
- Storage Format: esriMapCacheStorageModeCompact
- Packet Size: 128
Extent:
XMin: 2875260.354472385
YMin: 1627914.6588780482
XMax: 3036618.2994723846
YMax: 1745279.9097113814
Spatial Reference: 103013
(6428)
LatestVCSWkid(0)
Initial Extent:
XMin: 2875260.354472385
YMin: 1627914.6588780482
XMax: 3036618.2994723846
YMax: 1745279.9097113814
Spatial Reference: 103013
(6428)
LatestVCSWkid(0)
Full Extent:
XMin: 2875260.354472385
YMin: 1627914.6588780482
XMax: 3036618.2994723846
YMax: 1745279.9097113814
Spatial Reference: 103013
(6428)
LatestVCSWkid(0)
Pixel Size X: 3.2808333333333297
Pixel Size Y: 3.2808333333333306
Band Count: 3
Pixel Type: U8
RasterFunction Infos: {"rasterFunctionInfos": [{
"name": "None",
"description": "",
"help": ""
}]}
Mensuration Capabilities: Basic
Inspection Capabilities:
Has Histograms: true
Has Colormap: false
Has Multi Dimensions : false
Rendering Rule:
Min Scale: 307200
Max Scale: 600
Copyright Text:
Service Data Type: esriImageServiceDataTypeRGB
Min Values: 0, 0, 0
Max Values: 255, 255, 255
Mean Values: 88.3333072168609, 89.11589187029243, 84.15570019720296
Standard Deviation Values: 63.51845300413852, 62.831992308830976, 60.47930825887222
Object ID Field:
Fields:
None
Default Mosaic Method: Center
Allowed Mosaic Methods:
SortField:
SortValue: null
Mosaic Operator: First
Default Compression Quality: 75
Default Resampling Method: Bilinear
Max Record Count: null
Max Image Height: 4100
Max Image Width: 15000
Max Download Image Count: null
Max Mosaic Image Count: null
Allow Raster Function: true
Allow Copy: true
Allow Analysis: true
Allow Compute TiePoints: false
Supports Statistics: false
Supports Advanced Queries: false
Use StandardizedQueries: true
Raster Type Infos:
Name: Raster Dataset
Description: Supports all ArcGIS Raster Datasets
Help:
Has Raster Attribute Table: false
Edit Fields Info: null
Ownership Based AccessControl For Rasters: null
Child Resources:
Info
Histograms
Statistics
Key Properties
Legend
Raster Function Infos
Supported Operations:
Export Image
Identify
Measure
Compute Histograms
Compute Statistics Histograms
Get Samples
Compute Class Statistics
Query Boundary
Compute Pixel Location
Compute Angles
Validate
Project