View In:
  ArcGIS JavaScript
  ArcGIS Online Map Viewer
  ArcGIS Earth
Service Description:  This data set contains imagery from the National
Agriculture Imagery Program (NAIP). The NAIP
acquires digital ortho imagery during the
agricultural growing seasons in the continental U.S..
A primary goal of the NAIP program is to enable
availability of ortho imagery within one year of
acquisition. The NAIP provides two main products: 1
meter ground sample distance (GSD) ortho imagery
rectified to a horizontal accuracy within +/- 5 meters
of reference digital ortho quarter quads (DOQQ's) from
the National Digital Ortho Program (NDOP) or from the
National Agriculture Imagery Program (NAIP); 1 meter
or 60cm GSD ortho imagery rectified within +/- 6
meters to true ground. The tiling format of NAIP imagery is
based on a 3.75' x 3.75' quarter quadrangle with a 300
pixel buffer on all four sides. The NAIP imagery is
formatted to the UTM coordinate system using the North
American Datum of 1983 (NAD83). The NAIP imagery may
contain as much as 10% cloud cover per tile. This file
was generated by compressing NAIP imagery that covers
the county extent. Two types of compression may be
used for NAIP imagery: MrSID and JPEG 2000. The target
value for the compression ratio is 15:1 for the 1 meter
imagery and 60:1 for the 60cm imagery.
Name:  Imagery/NAIP17
Description:  This data set contains imagery from the National
Agriculture Imagery Program (NAIP). The NAIP
acquires digital ortho imagery during the
agricultural growing seasons in the continental U.S..
A primary goal of the NAIP program is to enable
availability of ortho imagery within one year of
acquisition. The NAIP provides two main products: 1
meter ground sample distance (GSD) ortho imagery
rectified to a horizontal accuracy within +/- 5 meters
of reference digital ortho quarter quads (DOQQ's) from
the National Digital Ortho Program (NDOP) or from the
National Agriculture Imagery Program (NAIP); 1 meter
or 60cm GSD ortho imagery rectified within +/- 6
meters to true ground. The tiling format of NAIP imagery is
based on a 3.75' x 3.75' quarter quadrangle with a 300
pixel buffer on all four sides. The NAIP imagery is
formatted to the UTM coordinate system using the North
American Datum of 1983 (NAD83). The NAIP imagery may
contain as much as 10% cloud cover per tile. This file
was generated by compressing NAIP imagery that covers
the county extent. Two types of compression may be
used for NAIP imagery: MrSID and JPEG 2000. The target
value for the compression ratio is 15:1 for the 1 meter
imagery and 60:1 for the 60cm imagery.
Single Fused Map Cache:  true
Tile Info: 
- Height: 256
 
- Width: 256
 
- DPI: 96
 
- 
Levels of Detail:  10
 
- Format: PNG32
 
- Compression Quality: 0.0
 
- LERC Error: NaN
 
- Origin: X:  -1.187679E8
Y:  1.490103E8
 
- Spatial Reference: 103013
 (6428)
 LatestVCSWkid(0)
 
Storage Info: 
- Storage Format: esriMapCacheStorageModeCompactV2
 
- Packet Size: 128
 
Extent: 
XMin: 2875227.424396604
YMin: 1627865.2421185316
XMax: 3036650.9860632704
YMax: 1745328.917951865
Spatial Reference: 103013
 (6428)
 LatestVCSWkid(0)
Initial Extent: 
XMin: 2875227.424396604
YMin: 1627865.2421185316
XMax: 3036650.9860632704
YMax: 1745328.917951865
Spatial Reference: 103013
 (6428)
 LatestVCSWkid(0)
Full Extent: 
XMin: 2875227.424396604
YMin: 1627865.2421185316
XMax: 3036650.9860632704
YMax: 1745328.917951865
Spatial Reference: 103013
 (6428)
 LatestVCSWkid(0)
Pixel Size X:  3.2808333333333306
Pixel Size Y:  3.280833333333332
Band Count: 3
Pixel Type: U8
RasterFunction Infos:  {"rasterFunctionInfos": [{
 "name": "None",
 "description": "",
 "help": ""
}]}
Mensuration Capabilities: Basic
Inspection Capabilities: 
Has Histograms:  true
Has Colormap:  false
Has Multi Dimensions :  false
Rendering Rule: 
Min Scale:  307200
Max Scale:  600
Copyright Text:  
Service Data Type:  esriImageServiceDataTypeRGB
Min Values:  0, 0, 0
Max Values:  251, 251, 251
Mean Values:  57.47813782322769, 59.66260403053373, 56.331925669881
Standard Deviation Values:  55.11273853548025, 52.180147596760015, 47.92314130721195
Object ID Field:  
Fields: 
None
Default Mosaic Method:  Center
Allowed Mosaic Methods:  
SortField:  
SortValue:  null
Mosaic Operator:  First
Default Compression Quality:  75
Default Resampling Method:  Bilinear
Max Record Count:  null
Max Image Height:  4100
Max Image Width:  15000
Max Download Image Count:  null
Max Mosaic Image Count:  null
Allow Raster Function:  true
Allow Copy:  true
Allow Analysis:  true
Allow Compute TiePoints:  false
Supports Statistics:  false
Supports Advanced Queries:  false
Use StandardizedQueries:  true
Raster Type Infos: 
Name: Raster Dataset
Description: Supports all ArcGIS Raster Datasets
Help: 
Has Raster Attribute Table:  false
Edit Fields Info:  null
Ownership Based AccessControl For Rasters:  null
Child Resources:
  
Info
  Histograms
  Statistics
  Key Properties
  Legend
  Raster Function Infos
Supported Operations:
  
Export Image
  Identify
  Measure
  Compute Histograms
  Compute Statistics Histograms
  Get Samples
  Compute Class Statistics
  Query Boundary
  Compute Pixel Location
  Compute Angles
  Validate
  Project