View In:
ArcGIS JavaScript
ArcGIS Online Map Viewer
ArcGIS Earth
Service Description: This dataset is a mosaic of aerial photography captured in 1999 for the Interstate 70 area. 2' resolution
Name: Imagery/clrcrk99
Description: This dataset is a mosaic of aerial photography captured in 1999 for the Interstate 70 area. 2' resolution
Single Fused Map Cache: true
Tile Info:
- Height: 256
- Width: 256
- DPI: 96
-
Levels of Detail: 10
- Format: PNG32
- Compression Quality: 0.0
- LERC Error: NaN
- Origin: X: -1.187679E8
Y: 1.490103E8
- Spatial Reference: 103013
(6428)
LatestVCSWkid(0)
Storage Info:
- Storage Format: esriMapCacheStorageModeCompact
- Packet Size: 128
Extent:
XMin: 2914999.999999996
YMin: 1672000.0000000056
XMax: 3034999.999999996
YMax: 1720000.0000000056
Spatial Reference: 103013
(6428)
LatestVCSWkid(0)
Initial Extent:
XMin: 2914999.999999996
YMin: 1672000.0000000056
XMax: 3034999.999999996
YMax: 1720000.0000000056
Spatial Reference: 103013
(6428)
LatestVCSWkid(0)
Full Extent:
XMin: 2914999.999999996
YMin: 1672000.0000000056
XMax: 3034999.999999996
YMax: 1720000.0000000056
Spatial Reference: 103013
(6428)
LatestVCSWkid(0)
Pixel Size X: 2.0
Pixel Size Y: 2.0
Band Count: 3
Pixel Type: U8
RasterFunction Infos: {"rasterFunctionInfos": [{
"name": "None",
"description": "",
"help": ""
}]}
Mensuration Capabilities: Basic
Inspection Capabilities:
Has Histograms: true
Has Colormap: false
Has Multi Dimensions : false
Rendering Rule:
Min Scale: 307200
Max Scale: 600
Copyright Text:
Service Data Type: esriImageServiceDataTypeRGB
Min Values: 0, 0, 0
Max Values: 255, 255, 255
Mean Values: 184.76277934513888, 183.685532740625, 178.98147869930557
Standard Deviation Values: 81.52986507872706, 82.09114597075238, 85.05660067626775
Object ID Field:
Fields:
None
Default Mosaic Method: Center
Allowed Mosaic Methods:
SortField:
SortValue: null
Mosaic Operator: First
Default Compression Quality: 75
Default Resampling Method: Bilinear
Max Record Count: null
Max Image Height: 4100
Max Image Width: 15000
Max Download Image Count: null
Max Mosaic Image Count: null
Allow Raster Function: true
Allow Copy: true
Allow Analysis: true
Allow Compute TiePoints: false
Supports Statistics: false
Supports Advanced Queries: false
Use StandardizedQueries: true
Raster Type Infos:
Name: Raster Dataset
Description: Supports all ArcGIS Raster Datasets
Help:
Has Raster Attribute Table: false
Edit Fields Info: null
Ownership Based AccessControl For Rasters: null
Child Resources:
Info
Histograms
Statistics
Key Properties
Legend
Raster Function Infos
Supported Operations:
Export Image
Identify
Measure
Compute Histograms
Compute Statistics Histograms
Get Samples
Compute Class Statistics
Query Boundary
Compute Pixel Location
Compute Angles
Validate
Project